BEGIN:VCALENDAR
VERSION:2.0
PRODID:-//Association SERA Santé Environnement Auvergne Rhône Alpes - ECPv6.15.20//NONSGML v1.0//EN
CALSCALE:GREGORIAN
METHOD:PUBLISH
X-WR-CALNAME:Association SERA Santé Environnement Auvergne Rhône Alpes
X-ORIGINAL-URL:https://www.sera.asso.fr
X-WR-CALDESC:Évènements pour Association SERA Santé Environnement Auvergne Rhône Alpes
REFRESH-INTERVAL;VALUE=DURATION:PT1H
X-Robots-Tag:noindex
X-PUBLISHED-TTL:PT1H
BEGIN:VTIMEZONE
TZID:Europe/Helsinki
BEGIN:DAYLIGHT
TZOFFSETFROM:+0200
TZOFFSETTO:+0300
TZNAME:EEST
DTSTART:20250330T010000
END:DAYLIGHT
BEGIN:STANDARD
TZOFFSETFROM:+0300
TZOFFSETTO:+0200
TZNAME:EET
DTSTART:20251026T010000
END:STANDARD
BEGIN:DAYLIGHT
TZOFFSETFROM:+0200
TZOFFSETTO:+0300
TZNAME:EEST
DTSTART:20260329T010000
END:DAYLIGHT
BEGIN:STANDARD
TZOFFSETFROM:+0300
TZOFFSETTO:+0200
TZNAME:EET
DTSTART:20261025T010000
END:STANDARD
BEGIN:DAYLIGHT
TZOFFSETFROM:+0200
TZOFFSETTO:+0300
TZNAME:EEST
DTSTART:20270328T010000
END:DAYLIGHT
BEGIN:STANDARD
TZOFFSETFROM:+0300
TZOFFSETTO:+0200
TZNAME:EET
DTSTART:20271031T010000
END:STANDARD
END:VTIMEZONE
BEGIN:VEVENT
DTSTART;TZID=Europe/Helsinki:20260424T080000
DTEND;TZID=Europe/Helsinki:20260426T170000
DTSTAMP:20260421T113556
CREATED:20260327T115839Z
LAST-MODIFIED:20260327T115839Z
UID:29699-1777017600-1777222800@www.sera.asso.fr
SUMMARY:25 et 26 avril Grenoble Les 48h de l'agriculture urbaine
DESCRIPTION:Programme par quartier  \nLe festival des 48h de l’agriculture urbaine c’est une multitude d’événements participatifs organisés par un collectif de plus 100 associations et collectivités dans une quarantaine de villes en France mais aussi en Belgique\, en Suisse\, au Luxembourg et même en République Tchèque.\nL’objectif ? Faire découvrir l’agriculture urbaine\, ses acteur.ices et ses bénéfices au plus grand nombre \nProgrammation
URL:https://www.sera.asso.fr/index.php/event/25-et-26-avril-grenoble-les-48h-de-lagriculture-urbaine/
LOCATION:Grenoble
CATEGORIES:public
END:VEVENT
END:VCALENDAR